BEGIN:VCALENDAR
VERSION:2.0
PRODID:-//Yoga-Garten.at - ECPv5.2.1//NONSGML v1.0//EN
CALSCALE:GREGORIAN
METHOD:PUBLISH
X-WR-CALNAME:Yoga-Garten.at
X-ORIGINAL-URL:https://yoga-garten.at
X-WR-CALDESC:Veranstaltungen für Yoga-Garten.at
BEGIN:VTIMEZONE
TZID:Europe/Berlin
BEGIN:DAYLIGHT
TZOFFSETFROM:+0100
TZOFFSETTO:+0200
TZNAME:CEST
DTSTART:20260329T010000
END:DAYLIGHT
BEGIN:STANDARD
TZOFFSETFROM:+0200
TZOFFSETTO:+0100
TZNAME:CET
DTSTART:20261025T010000
END:STANDARD
END:VTIMEZONE
BEGIN:VEVENT
DTSTART;TZID=Europe/Berlin:20261003T083000
DTEND;TZID=Europe/Berlin:20261003T103000
DTSTAMP:20260420T195327
CREATED:20260415T223700Z
LAST-MODIFIED:20260415T223701Z
UID:5047-1791016200-1791023400@yoga-garten.at
SUMMARY:Pilze - Schwammerlsuchen für EinsteigerInnen
DESCRIPTION:„In die Pilze“ Schwammerlsuchen für EinsteigerInnen\n\n\n\nSamstag 03. Oktober 2026\,  8:30 – 10:30 Uhr\n\n\n\n \n\n\n\nhier anmelden\n\n\n\nFür alle Schwammerl-Interessierte möchte ich eine gemeinsame Pilz-Wanderung im Kobernaußerwald anbieten!\n\n\n\nMit etwas Glück finden wir so viele schmackhafte Pilze\, dass sich jeder von euch ein kleines Körbchen voll mit nach Hause nehmen kann!\n\n\n\nIch liebe Pilze und ich liebe es sie zu sammeln! Wie ein Trüffelschwein streife ich dabei durch den Wald\, hab leider keine Zeit nach links oder rechts zu schauen und die Schönheit des Waldes zu genießen. \n\n\n\nIch kenne die wichtigsten heimischen Speisepilze und die giftigen eben so! Wer Lust hat gemeinsam zu sammeln\, dem kann ich gerne mein kleines Wissen weitergeben!\n\n\n\nJede TeilnehmerIn soll bitte ein Stoffsackerl / Korb und ein kleines Gemüsemesser mitbringen!\n\n\n\n \n\n\n\nKursbeitrag:  € 18\,-   (Kinder bis 15 Jahre sind gerne GRATIS mit dabei)\n\n\n\nOrt der Kräuterwanderung:   Kobernaußerwald \n\n\n\nTreffpunkt:  Parkplatz beim Turmwirt\n\n\n\n\n\n\n\n© YogaGarten© YogaGarten© YogaGarten© YogaGarten\n\n\n\nAUSRÜSTUNG: festes Schuhwerk\, mehrlagige wettergerechte Kleidung\, evt. Sitzunterlage und Getränk\n\n\n\nGrundsätzlich findet die Wanderung auch bei SCHWACHEM REGEN statt! Sollte das Wetter dennoch schlechter sein oder sich zu wenig Teilnehmer (mind. 5 Personen) finden\, wird die Wanderung rechtzeitig abgesagt! \n\n\n\nzum BLOG: … Vertrauen in das eigene Tun\n\n\n\nVertrauen ist eine Entscheidung! Selbstvertrauen bedeutet\, sich selbst zu vertrauen. Es ermöglicht dir das zu tun\, was du dir vorgenommen hast. Es ist die Wertschätzung in die eigenen Fähigkeiten!  \n\n\n\nIch möchte dich dazu ermuntern dir zu zutrauen\, dass du die richtigen Entscheidungen treffen wirst! Vertraue auf dein Wissen das du dir angeeignet hast und das du dieses richtig einsetzen wirst. Vertraue dir selbst.  \n\n\n\nWer tiefer in das Thema eintauchen möchte\, wird sicher bei der Österreichischen Mykologischen Gesellschaft fündig.
URL:https://yoga-garten.at/event/pilze-schwammerlsuchen-fuer-einsteigerinnen/
LOCATION:Turmwirt\, Stelzen 52\, Lohnsburg\, 4923\, Österreich
CATEGORIES:Kräuter Termine
ATTACH;FMTTYPE=image/jpeg:https://yoga-garten.at/wp-content/uploads/2020/09/20200917_184951.jpg
END:VEVENT
END:VCALENDAR