BEGIN:VCALENDAR
VERSION:2.0
PRODID:-//Yoga-Garten.at - ECPv5.2.1//NONSGML v1.0//EN
CALSCALE:GREGORIAN
METHOD:PUBLISH
X-WR-CALNAME:Yoga-Garten.at
X-ORIGINAL-URL:https://yoga-garten.at
X-WR-CALDESC:Veranstaltungen für Yoga-Garten.at
BEGIN:VTIMEZONE
TZID:Europe/Berlin
BEGIN:DAYLIGHT
TZOFFSETFROM:+0100
TZOFFSETTO:+0200
TZNAME:CEST
DTSTART:20260329T010000
END:DAYLIGHT
BEGIN:STANDARD
TZOFFSETFROM:+0200
TZOFFSETTO:+0100
TZNAME:CET
DTSTART:20261025T010000
END:STANDARD
END:VTIMEZONE
BEGIN:VEVENT
DTSTART;TZID=Europe/Berlin:20260602T193000
DTEND;TZID=Europe/Berlin:20260728T210000
DTSTAMP:20260420T195802
CREATED:20260415T224104Z
LAST-MODIFIED:20260415T224106Z
UID:5052-1780428600-1785272400@yoga-garten.at
SUMMARY:Yoga mit allen Sinnen
DESCRIPTION:Yoga mit allen Sinnen\n\n\n\nimmer dienstags von 19:30 – 21:00 Uhr\n\n\n\nim Freigelände des Obsterlebnisgarten Lohnsburg\n\n\n\n\nYoga in freier Natur gibt dir die Möglichkeit ganz präsent zu sein und den Alltag hinter dir zu lassen! \n\n\n\nYoga mit allen Sinnen ist die Verbindung von Körper\, Geist und Seele und das kannst du besonders gut in freier Natur spüren! Bei sonnigem Wetter macht Bewegung an der frischen Luft viel Spaß und bringt obendrein noch gesundheitliche Vorteile! Stress und Unbehaglichkeiten können in der Natur abgeschüttelt werden. Während das Immunsystem und der Stoffwechsel durch die frische Luft angeregt werden\, wird durch die Bewegung Blutdruck und Herzfrequenz gesenkt und über das Sonnenlicht nimmt der Körper wichtiges Vitamin D auf. \n\n\n\nKeine komplizierten Übungen\, aber gut ausgerichtet! Der Kurs ist für Einsteiger sowie Fortgeschrittene TeilnehmerInnen.    \n\n\n\n\n\n\n\n\n9 Einzeltermine:  02.\, 09.\, 16.\, 23.\, 30. Juni  und  07.\, 14.\, 21.\, 28. Juli 2025\n\n\n\n OHNE ANMELDUNG – Die Yoga-Einheiten finden nur bei Schönwetter statt!\n\n\n\nKursbeitrag:  € 16\,-   pro Einheit (á 90 Minuten) und Termin\n\n\n\n \n\n\n\nTreffpunkt: mindestens 5 Minuten vor Beginn\, am Parkplatz des OGV Lohnsburg\n\n\n\n\n\n\n\n.
URL:https://yoga-garten.at/event/yoga-mit-allen-sinnen/
LOCATION:Obsterlebnisgarten Lohnsburg\, Hochkuchl 25\, Lohnsburg\, OÖ\, 4923\, Österreich
CATEGORIES:Yoga Klassen
ATTACH;FMTTYPE=image/jpeg:https://yoga-garten.at/wp-content/uploads/2025/05/yoga-garten-ingrid-schmid-asana-041-20200714_194818.jpg
END:VEVENT
END:VCALENDAR